BEGIN:VCALENDAR
VERSION:2.0
PRODID:gruene-stahnsdorf.de
METHOD:PUBLISH
BEGIN:VTIMEZONE
TZID:Europe/Berlin
X-LIC-LOCATION:Europe/Berlin
BEGIN:DAYLIGHT
TZOFFSETFROM:+0100
TZOFFSETTO:+0200
TZNAME:CEST
DTSTART:19700329T020000
RRULE:FREQ=YEARLY;INTERVAL=1;BYDAY=-1SU;BYMONTH=3
END:DAYLIGHT
BEGIN:STANDARD
TZOFFSETFROM:+0200
TZOFFSETTO:+0100
TZNAME:CET
DTSTART:19701025T030000
RRULE:FREQ=YEARLY;INTERVAL=1;BYDAY=-1SU;BYMONTH=10
END:STANDARD
END:VTIMEZONE
BEGIN:VEVENT
UID:1d7ecf75907a9e254252e115a972a331@gruene-stahnsdorf.de
URL;VALUE=URI:https://gruene-stahnsdorf.de/termine/buergerabend-in-stahns
 dorf-logistikzentrum-im-green-park/
LOCATION:Gemeindezentrum Stahnsdorf, Annastraße 3, Stahnsdorf
SUMMARY:Bürgerabend in Stahnsdorf: Logistikzentrum im Green Park
DESCRIPTION;ALTREP="data:text/html,%0A%3Cp%3EDie%20Zukunft%20des%20%E2%80
 %9EGreen%20Park%E2%80%9C%20steht%20zur%20Debatte.%20Alle%20B%C3%BCrgerinn
 en%20und%20B%C3%BCrger%20von%20Stahnsdorf%20sind%20herzlich%20eingeladen%
 2C%20sich%20%C3%BCber%20die%20aktuellen%20Pl%C3%A4ne%20zur%20Errichtung%2
 0eines%20gro%C3%9Fen%20Logistikzentrums%20und%20deren%20Auswirkungen%20au
 f%20die%20Gemeinde%20zu%20informieren.%3C%2Fp%3E%0A%0A%0A%0A%3Cp%3EIn%20d
 er%20Gemeinde%20werden%20derzeit%20zwei%20gegens%C3%A4tzliche%20Wege%20di
 skutiert%3A%20Die%20Realisierung%20eines%20Logistik-%20und%20Warenwirtsch
 aftszentrums%20%28unterst%C3%BCtzt%20von%20CDU%2FFDP%2FSPD%29%20oder%20ei
 ne%20Ver%C3%A4nderungssperre%20zur%20Erarbeitung%20eines%20alternativen%2
 0Konzepts%20%28unterst%C3%BCtzt%20vom%20B%C3%BCrgermeister%20sowie%20der%
 20Fraktion%20B%C3%BCrger%20f%C3%BCr%20B%C3%BCrger%20und%20Linke%2FGr%C3%B
 Cne%29.%3C%2Fp%3E%0A%0A%0A%0A%3Ch3%20class%3D%22wp-block-heading%22%3E%3C
 strong%3EEckdaten%20der%20Veranstaltung%3A%3C%2Fstrong%3E%3C%2Fh3%3E%0A%0
 A%0A%0A%3Cul%20class%3D%22wp-block-list%22%3E%0A%3Cli%3E%3Cstrong%3EDatum
 %3A%3C%2Fstrong%3E%20Mittwoch%2C%2025.%20Februar%202026%3C%2Fli%3E%0A%0A%
 0A%0A%3Cli%3E%3Cstrong%3EBeginn%3A%3C%2Fstrong%3E%2019%3A00%20Uhr%3C%2Fli
 %3E%0A%0A%0A%0A%3Cli%3E%3Cstrong%3EOrt%3A%3C%2Fstrong%3E%20Gemeindezentru
 m%20Stahnsdorf%2C%20Annastra%C3%9Fe%203%3C%2Fli%3E%0A%3C%2Ful%3E%0A%0A%0A
 %0A%3Ch3%20class%3D%22wp-block-heading%22%3E%3Cstrong%3EWas%20erwartet%20
 Sie%3F%3C%2Fstrong%3E%3C%2Fh3%3E%0A%0A%0A%0A%3Cp%3EDer%20B%C3%BCrgermeist
 er%2C%20Herr%20Albers%2C%20wird%20als%20Gastredner%20den%20aktuellen%20Sa
 chstand%20erl%C3%A4utern%20und%20f%C3%BCr%20Fragen%20zur%20Verf%C3%BCgung
 %20stehen.%20Im%20Fokus%20stehen%20dabei%20folgende%20Themen%3A%3C%2Fp%3E
 %0A%0A%0A%0A%3Cul%20class%3D%22wp-block-list%22%3E%0A%3Cli%3E%3Cstrong%3E
 Lebensqualit%C3%A4t%3A%3C%2Fstrong%3E%20M%C3%B6gliche%20Belastungen%20dur
 ch%20L%C3%A4rm%2C%20Verkehr%20und%20Umwelt%20%2824%2F7-Betrieb%29.%3C%2Fl
 i%3E%0A%0A%0A%0A%3Cli%3E%3Cstrong%3EB%C3%BCrgerinteressen%3A%3C%2Fstrong%
 3E%20Mitspracherecht%20und%20die%20Auswirkungen%20auf%20das%20direkte%20W
 ohnumfeld%20%28auch%20im%20Hinblick%20auf%20die%20S-Bahn%20und%20P%26amp%
 3BR-Verkehr%29.%3C%2Fli%3E%0A%0A%0A%0A%3Cli%3E%3Cstrong%3EGemeindewohl%3A
 %3C%2Fstrong%3E%20Abw%C3%A4gung%20zwischen%20Infrastrukturkosten%20und%20
 Gewerbeeinnahmen.%3C%2Fli%3E%0A%0A%0A%0A%3Cli%3E%3Cstrong%3EOffene%20Frag
 erunde%3A%3C%2Fstrong%3E%20Raum%20f%C3%BCr%20Ihre%20Anregungen%20und%20Be
 denken.%3C%2Fli%3E%0A%3C%2Ful%3E%0A%0A%0A%0A%3Cp%3EOrganisiert%20wird%20d
 er%20Abend%20von%20der%20%E2%80%9EB%C3%BCrgerinitiative%20Green%20Park%E2
 %80%9C%20und%20dem%20Verein%20%E2%80%9E%3Ca%20href%3D%22https%3A%2F%2Fwww
 .sputendorfergruen-stahnsdorf.de%2F%22%20data-type%3D%22link%22%20data-id
 %3D%22https%3A%2F%2Fwww.sputendorfergruen-stahnsdorf.de%2F%22%3ESputendor
 ferGr%C3%BCn%20Stahnsdorf%20gem.%20e.V.%3C%2Fa%3E%E2%80%9C.%3C%2Fp%3E%0A%
 0A%0A%0A%3Cdiv%20class%3D%22wp-block-file%22%3E%3Ca%20id%3D%22wp-block-fi
 le--media-963dc29b-25ec-42bf-8fac-e03a35233cd3%22%20href%3D%22https%3A%2F
 %2Fgruene-stahnsdorf.de%2Fwp-content%2Fuploads%2Fsites%2F8%2F2026%2F02%2F
 Buergerabend_25.02.2026.jpg%22%3EInformationsflyer%3A%20B%C3%BCrgerabend%
 20in%20Stahnsdorf%3C%2Fa%3E%3Ca%20href%3D%22https%3A%2F%2Fgruene-stahnsdo
 rf.de%2Fwp-content%2Fuploads%2Fsites%2F8%2F2026%2F02%2FBuergerabend_25.02
 .2026.jpg%22%20class%3D%22wp-block-file__button%20wp-element-button%22%20
 download%20aria-describedby%3D%22wp-block-file--media-963dc29b-25ec-42bf-
 8fac-e03a35233cd3%22%3EHerunterladen%3C%2Fa%3E%3C%2Fdiv%3E%0A%0A%0A%0A%3C
 h3%20class%3D%22wp-block-heading%22%3E%3Cstrong%3EWarum%20Ihre%20Teilnahm
 e%20entscheidend%20ist%3A%3C%2Fstrong%3E%3C%2Fh3%3E%0A%0A%0A%0A%3Cp%3ESta
 hnsdorf%20steht%20vor%20einer%20Weichenstellung%2C%20die%20das%20Gesicht%
 20unserer%20Gemeinde%20%C3%BCber%20Jahrzehnte%20pr%C3%A4gen%20wird.%20Die
 ser%20Informationsabend%20ist%20die%20zentrale%20Gelegenheit%20f%C3%BCr%2
 0Sie%2C%20sich%20aus%20erster%20Hand%20ein%20Bild%20von%20den%20massiven%
 20baulichen%20Vorhaben%20zu%20machen%20und%20Ihre%20Fragen%20direkt%20an%
 20die%20Verantwortlichen%20zu%20richten.%20Nur%20durch%20eine%20breite%20
 Beteiligung%20der%20B%C3%BCrgerschaft%20wird%20sichergestellt%2C%20dass%2
 0die%20Sorgen%20um%20L%C3%A4rm%2C%20Verkehr%20und%20die%20k%C3%BCnftige%2
 0Lebensqualit%C3%A4t%20in%20unserer%20Mitte%20nicht%20ungeh%C3%B6rt%20ble
 iben.%20Nutzen%20Sie%20Ihr%20Mitspracherecht%20und%20bringen%20Sie%20Ihre
 %20Perspektive%20ein%20%E2%80%93%20Ihre%20Anwesenheit%20zeigt%2C%20dass%2
 0Ihnen%20die%20Gestaltung%20unseres%20gemeinsamen%20Wohnumfeldes%20am%20H
 erzen%20liegt.%3C%2Fp%3E%0A%0A%0A%0A%3Ch2%20class%3D%22wp-block-heading%2
 2%3EWie%20stehen%20wir%20dazu%3F%3C%2Fh2%3E%0A%0A%0A%0A%3Cp%3EAuch%20wir%
 20wollen%20uns%20bei%20dem%20Informationsabend%20eine%20Meinung%20bilden.
 %20Obwohl%20wir%20dem%20Dialog%20offen%20gegen%C3%BCberstehen%2C%20sehen%
 20wir%20nach%20aktuellem%20Stand%20jedoch%20Risiken%20f%C3%BCr%20die%20we
 itere%20Entwicklung%20Stahnsdorfs.%3C%2Fp%3E%0A%0A%0A%0A%3Ch3%20class%3D%
 22wp-block-heading%22%3E%3Cstrong%3EUnsere%20aktuellen%20Bedenken%20im%20
 %C3%9Cberblick%3A%3C%2Fstrong%3E%3C%2Fh3%3E%0A%0A%0A%0A%3Cul%20class%3D%2
 2wp-block-list%22%3E%0A%3Cli%3E%3Cstrong%3EVerkehr%20%26amp%3B%20Infrastr
 uktur%3A%3C%2Fstrong%3E%20Wir%20bef%C3%BCrchten%20eine%20massive%20Zunahm
 e%20des%20LKW-Verkehrs%2C%20der%20die%20L77%20verstopfen%20k%C3%B6nnte.%2
 0Da%20diese%20Stra%C3%9Fe%20k%C3%BCnftig%20auch%20als%20wichtiger%20Zufah
 rtsweg%20f%C3%BCr%20die%20S-Bahn%20fungieren%20soll%2C%20droht%20hier%20e
 in%20dauerhaftes%20Verkehrschaos%20direkt%20durch%20unseren%20Ort.%3C%2Fl
 i%3E%0A%0A%0A%0A%3Cli%3E%3Cstrong%3ELebensqualit%C3%A4t%3A%3C%2Fstrong%3E
 %20Abgase%20und%20L%C3%A4rmbel%C3%A4stigung%20%28potenziell%20rund%20um%2
 0die%20Uhr%29%20k%C3%B6nnten%20die%20Wohnqualit%C3%A4t%20in%20den%20%3Cst
 rong%3ESchmalen%20Enden%3C%2Fstrong%3E%2C%20im%20%3Cstrong%3EBlumenvierte
 l%3C%2Fstrong%3E%20sowie%20im%20Mischgebiet%20%3Cstrong%3EEnzianweg%2FRuh
 lsdorfer%20Stra%C3%9Fe%3C%2Fstrong%3E%20massiv%20beeintr%C3%A4chtigen.%3C
 %2Fli%3E%0A%0A%0A%0A%3Cli%3E%3Cstrong%3EWirtschaftlicher%20Nutzen%20fragl
 ich%3A%3C%2Fstrong%3E%20Es%20ist%20unklar%2C%20ob%20Stahnsdorf%20wirklich
 %20profitiert.%20Bei%20hochautomatisierten%20Logistikzentren%20entstehen%
 20kaum%20neue%20Arbeitspl%C3%A4tze%20vor%20Ort.%20Zudem%20ist%20v%C3%B6ll
 ig%20offen%2C%20ob%20ein%20internationales%20Unternehmen%20die%20Gewerbes
 teuer%20tats%C3%A4chlich%20hier%20abf%C3%BChrt%20oder%20ob%20am%20Ende%20
 die%20Infrastrukturkosten%20an%20der%20Gemeinde%20h%C3%A4ngen%20bleiben.%
 3C%2Fli%3E%0A%0A%0A%0A%3Cli%3E%3Cstrong%3ENachhaltige%20Alternativen%3A%3
 C%2Fstrong%3E%20W%C3%A4re%20ein%20Modell%20f%C3%BCr%20Kleingewerbe%20und%
 20lokale%20Netzwerke%20nicht%20sinnvoller%3F%20Idealerweise%20f%C3%A4nde%
 20sich%20ein%20neuer%20Investor%20f%C3%BCr%20ein%20echtes%20Zukunftsproje
 kt%2C%20der%20das%20Areal%20nachhaltig%20entwickelt%2C%20statt%20es%20zum
 %20reinen%20Industriepark%20zu%20machen.%3C%2Fli%3E%0A%3C%2Ful%3E%0A%0A%0
 A%0A%3Cp%3E%3C%2Fp%3E%0A":Die Zukunft des „Green Park“ steht zur Deba
 tte. Alle Bürgerinnen und Bürger von Stahnsdorf sind herzlich eingelade
 n\, sich über die aktuellen Pläne zur Errichtung eines großen Logistik
 zentrums und deren Auswirkungen auf die Gemeinde zu informieren.\n\nIn de
 r Gemeinde werden derzeit zwei gegensätzliche Wege diskutiert: Die Reali
 sierung eines Logistik- und Warenwirtschaftszentrums (unterstützt von CD
 U/FDP/SPD) oder eine Veränderungssperre zur Erarbeitung eines alternativ
 en Konzepts (unterstützt vom Bürgermeister sowie der Fraktion Bürger f
 ür Bürger und Linke/Grüne).\n\nEckdaten der Veranstaltung:\n\nDatum: M
 ittwoch\, 25. Februar 2026\n\nBeginn: 19:00 Uhr\n\nOrt: Gemeindezentrum S
 tahnsdorf\, Annastraße 3\n\nWas erwartet Sie?\n\nDer Bürgermeister\, He
 rr Albers\, wird als Gastredner den aktuellen Sachstand erläutern und f
 ür Fragen zur Verfügung stehen. Im Fokus stehen dabei folgende Themen:\
 n\nLebensqualität: Mögliche Belastungen durch Lärm\, Verkehr und Umwel
 t (24/7-Betrieb).\n\nBürgerinteressen: Mitspracherecht und die Auswirkun
 gen auf das direkte Wohnumfeld (auch im Hinblick auf die S-Bahn und P&R-V
 erkehr).\n\nGemeindewohl: Abwägung zwischen Infrastrukturkosten und Gewe
 rbeeinnahmen.\n\nOffene Fragerunde: Raum für Ihre Anregungen und Bedenke
 n.\n\nOrganisiert wird der Abend von der „Bürgerinitiative Green Park
 “ und dem Verein „SputendorferGrün Stahnsdorf gem. e.V.“.\n\nInfor
 mationsflyer: Bürgerabend in StahnsdorfHerunterladen\n\nWarum Ihre Teiln
 ahme entscheidend ist:\n\nStahnsdorf steht vor einer Weichenstellung\, di
 e das Gesicht unserer Gemeinde über Jahrzehnte prägen wird. Dieser Info
 rmationsabend ist die zentrale Gelegenheit für Sie\, sich aus erster Han
 d ein Bild von den massiven baulichen Vorhaben zu machen und Ihre Fragen 
 direkt an die Verantwortlichen zu richten. Nur durch eine breite Beteilig
 ung der Bürgerschaft wird sichergestellt\, dass die Sorgen um Lärm\, Ve
 rkehr und die künftige Lebensqualität in unserer Mitte nicht ungehört 
 bleiben. Nutzen Sie Ihr Mitspracherecht und bringen Sie Ihre Perspektive 
 ein – Ihre Anwesenheit zeigt\, dass Ihnen die Gestaltung unseres gemein
 samen Wohnumfeldes am Herzen liegt.\n\nWie stehen wir dazu?\n\nAuch wir w
 ollen uns bei dem Informationsabend eine Meinung bilden. Obwohl wir dem D
 ialog offen gegenüberstehen\, sehen wir nach aktuellem Stand jedoch Risi
 ken für die weitere Entwicklung Stahnsdorfs.\n\nUnsere aktuellen Bedenke
 n im Überblick:\n\nVerkehr & Infrastruktur: Wir befürchten eine massive
  Zunahme des LKW-Verkehrs\, der die L77 verstopfen könnte. Da diese Stra
 ße künftig auch als wichtiger Zufahrtsweg für die S-Bahn fungieren sol
 l\, droht hier ein dauerhaftes Verkehrschaos direkt durch unseren Ort.\n\
 nLebensqualität: Abgase und Lärmbelästigung (potenziell rund um die Uh
 r) könnten die Wohnqualität in den Schmalen Enden\, im Blumenviertel so
 wie im Mischgebiet Enzianweg/Ruhlsdorfer Straße massiv beeinträchtigen.
 \n\nWirtschaftlicher Nutzen fraglich: Es ist unklar\, ob Stahnsdorf wirkl
 ich profitiert. Bei hochautomatisierten Logistikzentren entstehen kaum ne
 ue Arbeitsplätze vor Ort. Zudem ist völlig offen\, ob ein international
 es Unternehmen die Gewerbesteuer tatsächlich hier abführt oder ob am En
 de die Infrastrukturkosten an der Gemeinde hängen bleiben.\n\nNachhaltig
 e Alternativen: Wäre ein Modell für Kleingewerbe und lokale Netzwerke n
 icht sinnvoller? Idealerweise fände sich ein neuer Investor für ein ech
 tes Zukunftsprojekt\, der das Areal nachhaltig entwickelt\, statt es zum 
 reinen Industriepark zu machen.
CLASS:PUBLIC
DTSTART;TZID=Europe/Berlin:20260225T190000
DTEND;TZID=Europe/Berlin:20260225T210000
DTSTAMP:20260423T102600
END:VEVENT
END:VCALENDAR