BEGIN:VCALENDAR
VERSION:2.0
PRODID:gruene-stahnsdorf.de
METHOD:PUBLISH
BEGIN:VTIMEZONE
TZID:Europe/Berlin
X-LIC-LOCATION:Europe/Berlin
BEGIN:DAYLIGHT
TZOFFSETFROM:+0100
TZOFFSETTO:+0200
TZNAME:CEST
DTSTART:19700329T020000
RRULE:FREQ=YEARLY;INTERVAL=1;BYDAY=-1SU;BYMONTH=3
END:DAYLIGHT
BEGIN:STANDARD
TZOFFSETFROM:+0200
TZOFFSETTO:+0100
TZNAME:CET
DTSTART:19701025T030000
RRULE:FREQ=YEARLY;INTERVAL=1;BYDAY=-1SU;BYMONTH=10
END:STANDARD
END:VTIMEZONE
BEGIN:VEVENT
UID:0261770facd2f950e31d2ab83f02cd25@gruene-stahnsdorf.de
URL;VALUE=URI:https://gruene-stahnsdorf.de/termine/demokratie-gruppe/
LOCATION:Bürgersaal Kleinmachnow, Adolf-Grimme-Ring 10, Kleinmachnow
SUMMARY:Demokratie-Gruppe
DESCRIPTION;ALTREP="data:text/html,%0A%3Cp%3E%3Cstrong%3EDu%20willst%20di
 ch%20f%C3%BCr%20Demokratie%20starkmachen%20und%20unsere%20Region%20aktiv%
 20mitgestalten%3F%3C%2Fstrong%3E%3C%2Fp%3E%0A%0A%0A%0A%3Cp%3EDann%20sei%2
 0dabei%20am%C2%A0%3Cstrong%3E15.%20September%202025%20von%2018%3A00%20bis
 %2021%3A00%20Uhr%20im%20B%C3%BCrgersaal%20des%20Rathaus%20Kleinmachnow%3C
 %2Fstrong%3E%21%3C%2Fp%3E%0A%0A%0A%0A%3Cp%3EAn%20diesem%20Abend%20kommen%
 20Menschen%20aus%20Teltow%2C%20Kleinmachnow%20und%20Stahnsdorf%20zusammen
 %2C%20die%20eine%20gemeinsame%20Vision%20verbindet%3A%20eine%20lebendige%
 2C%20demokratische%20und%20zukunftsf%C3%A4hige%20Region.%20Die%20noch%20j
 unge%20Gruppe%20m%C3%B6chte%20sich%20in%20einem%20Workshop%20gemeinsam%20
 finden%2C%20Ziele%20definieren%20und%20konkrete%20Projekte%20f%C3%BCr%20u
 nsere%20drei%20Gemeinden%20entwickeln.%3C%2Fp%3E%0A%0A%0A%0A%3Cp%3EUnters
 t%C3%BCtzt%20wird%20der%20Abend%20vom%C2%A0%3Cstrong%3E%3Ca%20href%3D%22h
 ttps%3A%2F%2Fwww.gemeinwesenberatung-demos.de%2Fkontakt%2F%22%20data-type
 %3D%22link%22%20data-id%3D%22https%3A%2F%2Fwww.gemeinwesenberatung-demos.
 de%2Fkontakt%2F%22%3EMobilen%20Beratungsteam%20%28MBT%29%3C%2Fa%3E%3C%2Fs
 trong%3E%2C%20das%20uns%20dabei%20hilft%2C%20Strukturen%20zu%20schaffen%2
 0und%20Ideen%20praxisnah%20umzusetzen.%20Egal%2C%20ob%20du%20bereits%20er
 fahren%20im%20Engagement%20bist%20oder%20gerade%20erst%20startest%20%E2%8
 0%93%20hier%20ist%20Platz%20f%C3%BCr%20alle%2C%20die%20etwas%20bewegen%20
 m%C3%B6chten.%3C%2Fp%3E%0A%0A%0A%0A%3Cp%3E%3Cstrong%3EMan%20freut%20sich%
 20auf%20dich%20und%20deine%20Ideen%21%3C%2Fstrong%3E%3C%2Fp%3E%0A%0A%0A%0
 A%3Cp%3E%3C%2Fp%3E%0A":Du willst dich für Demokratie starkmachen und uns
 ere Region aktiv mitgestalten?\n\nDann sei dabei am 15. September 2025 v
 on 18:00 bis 21:00 Uhr im Bürgersaal des Rathaus Kleinmachnow!\n\nAn die
 sem Abend kommen Menschen aus Teltow\, Kleinmachnow und Stahnsdorf zusamm
 en\, die eine gemeinsame Vision verbindet: eine lebendige\, demokratische
  und zukunftsfähige Region. Die noch junge Gruppe möchte sich in einem 
 Workshop gemeinsam finden\, Ziele definieren und konkrete Projekte für u
 nsere drei Gemeinden entwickeln.\n\nUnterstützt wird der Abend vom Mobi
 len Beratungsteam (MBT)\, das uns dabei hilft\, Strukturen zu schaffen un
 d Ideen praxisnah umzusetzen. Egal\, ob du bereits erfahren im Engagement
  bist oder gerade erst startest – hier ist Platz für alle\, die etwas 
 bewegen möchten.\n\nMan freut sich auf dich und deine Ideen!
CLASS:PUBLIC
DTSTART;TZID=Europe/Berlin:20250915T180000
DTEND;TZID=Europe/Berlin:20250915T210000
DTSTAMP:20260425T171058
END:VEVENT
END:VCALENDAR