BEGIN:VCALENDAR
VERSION:2.0
PRODID:gruene-stahnsdorf.de
METHOD:PUBLISH
BEGIN:VTIMEZONE
TZID:Europe/Berlin
X-LIC-LOCATION:Europe/Berlin
BEGIN:DAYLIGHT
TZOFFSETFROM:+0100
TZOFFSETTO:+0200
TZNAME:CEST
DTSTART:19700329T020000
RRULE:FREQ=YEARLY;INTERVAL=1;BYDAY=-1SU;BYMONTH=3
END:DAYLIGHT
BEGIN:STANDARD
TZOFFSETFROM:+0200
TZOFFSETTO:+0100
TZNAME:CET
DTSTART:19701025T030000
RRULE:FREQ=YEARLY;INTERVAL=1;BYDAY=-1SU;BYMONTH=10
END:STANDARD
END:VTIMEZONE
BEGIN:VEVENT
UID:b83a770113248e140d02c6b4147ef0eb@gruene-stahnsdorf.de
URL;VALUE=URI:https://gruene-stahnsdorf.de/termine/mitgliederversammlung-
 juli/
LOCATION:Naturkinder Kienwerder, Am Kiebitzfenn 19, Kienwerder
SUMMARY:Mitgliederversammlung: Juli
DESCRIPTION;ALTREP="data:text/html,%0A%3Cp%3E%F0%9F%8C%BF%26nbsp%3B%3Cstr
 ong%3EGemeinsam%20Zukunft%20gestalten%3A%20Komm%20zur%20Mitgliederversamm
 lung%21%3C%2Fstrong%3E%3Cbr%3E%3Cstrong%3EDeine%20Stimme%20bewegt%20Stahn
 sdorf%21%3C%2Fstrong%3E%3C%2Fp%3E%0A%0A%0A%0A%3Cp%3ELiebe%20Gr%C3%BCne%2C
 %20liebe%20Freund%2Ainnen%26nbsp%3Bunserer%20Partei%2C%3C%2Fp%3E%0A%0A%0A
 %0A%3Cp%3Eim%20Herzen%20unserer%20Demokratie%20schl%C3%A4gt%20der%20Austa
 usch%20unter%20Engagierten.%20Deshalb%20laden%20wir%20dich%20herzlich%20e
 in%20zu%20unserer%20n%C3%A4chsten%26nbsp%3B%3Cstrong%3EMitgliederversamml
 ung%3C%2Fstrong%3E%3A%3C%2Fp%3E%0A%0A%0A%0A%3Ch3%20class%3D%22wp-block-he
 ading%22%3E%F0%9F%93%85%26nbsp%3B%3Cstrong%3EWann%3F%3C%2Fstrong%3E%3C%2F
 h3%3E%0A%0A%0A%0A%3Cp%3E%3Cstrong%3EMontag%2C%2014.%20Juli%202025%20%7C%2
 018%3A30%20Uhr%3C%2Fstrong%3E%3C%2Fp%3E%0A%0A%0A%0A%3Ch3%20class%3D%22wp-
 block-heading%22%3E%F0%9F%93%8D%26nbsp%3B%3Cstrong%3EWo%3F%3C%2Fstrong%3E
 %3C%2Fh3%3E%0A%0A%0A%0A%3Cp%3E%3Cstrong%3ENaturkinder%20Kienwerder%20e.V.
 %20%2C%20Am%20Kiebitzfenn%2019%3C%2Fstrong%3E%3C%2Fp%3E%0A%0A%0A%0A%3Chr%
 20class%3D%22wp-block-separator%20has-text-color%20has-tanne-color%20has-
 alpha-channel-opacity%20has-tanne-background-color%20has-background%22%20
 %2F%3E%0A%0A%0A%0A%3Ch3%20class%3D%22wp-block-heading%22%3E%F0%9F%92%AC%2
 6nbsp%3B%3Cstrong%3EWarum%20dein%20Kommen%20z%C3%A4hlt%3A%3C%2Fstrong%3E%
 3C%2Fh3%3E%0A%0A%0A%0A%3Cul%20class%3D%22wp-block-list%22%3E%0A%3Cli%3E%3
 Cstrong%3EAustausch%20auf%20Augenh%C3%B6he%3C%2Fstrong%3E%3A%20Diskutiere
 %20mit%20uns%20%C3%BCber%20gr%C3%BCne%20Politik%20vor%20Ort%20%E2%80%93%2
 0von%20Klimaschutz%20bis%20Sozialem.%3C%2Fli%3E%0A%0A%0A%0A%3Cli%3E%3Cstr
 ong%3EGemeinsame%20Strategie%3C%2Fstrong%3E%3A%20Entwickeln%20wir%20zusam
 men%20L%C3%B6sungen%20f%C3%BCr%20die%20Herausforderungen%20unserer%20Geme
 inde.%3C%2Fli%3E%0A%0A%0A%0A%3Cli%3E%3Cstrong%3ENeue%20Energie%20tanken%3
 C%2Fstrong%3E%3A%20Treffe%20Gleichgesinnte%20und%20lass%20uns%20Erfolge%2
 0feiern%21%3C%2Fli%3E%0A%3C%2Ful%3E%0A%0A%0A%0A%3Cblockquote%20class%3D%2
 2wp-block-quote%20is-layout-flow%20wp-block-quote-is-layout-flow%22%3E%0A
 %3Cp%3E%22Ver%C3%A4nderung%20entsteht%2C%20wenn%20Menschen%20sich%20verbi
 nden.%22%3C%2Fp%3E%0A%3C%2Fblockquote%3E%0A%0A%0A%0A%3Chr%20class%3D%22wp
 -block-separator%20has-text-color%20has-tanne-color%20has-alpha-channel-o
 pacity%20has-tanne-background-color%20has-background%22%20%2F%3E%0A%0A%0A
 %0A%3Ch3%20class%3D%22wp-block-heading%22%3E%F0%9F%8C%B1%26nbsp%3B%3Cstro
 ng%3EWas%20dich%20erwartet%3A%3C%2Fstrong%3E%3C%2Fh3%3E%0A%0A%0A%0A%3Col%
 20start%3D%221%22%20class%3D%22wp-block-list%22%3E%0A%3Cli%3E%3Cstrong%3E
 Impulse%20zur%20Lage%3C%2Fstrong%3E%3A%20Wo%20stehen%20wir%3F%20Wo%20woll
 en%20wir%20hin%3F%3C%2Fli%3E%0A%0A%0A%0A%3Cli%3E%3Cstrong%3EMitgestaltung
 %3C%2Fstrong%3E%3A%20Bring%20deine%20Ideen%20ein%20%E2%80%93%20jede%20Per
 spektive%20bereichert%20uns%21%3C%2Fli%3E%0A%0A%0A%0A%3Cli%3E%3Cstrong%3E
 Aktionsplanung%3C%2Fstrong%3E%3A%20Werde%20Teil%20unserer%20n%C3%A4chsten
 %20Projekte.%3C%2Fli%3E%0A%0A%0A%0A%3Cli%3E%3Cstrong%3ENetzwerken%3C%2Fst
 rong%3E%3A%20In%20entspannter%20Atmosph%C3%A4re%2C%20auf%20Augenh%C3%B6he
 .%3C%2Fli%3E%0A%3C%2Fol%3E%0A%0A%0A%0A%3Chr%20class%3D%22wp-block-separat
 or%20has-text-color%20has-tanne-color%20has-alpha-channel-opacity%20has-t
 anne-background-color%20has-background%20is-style-default%22%20%2F%3E%0A%
 0A%0A%0A%3Ch3%20class%3D%22wp-block-heading%22%3E%F0%9F%91%A5%26nbsp%3B%3
 Cstrong%3EF%C3%BCr%20alle%20offen%3A%3C%2Fstrong%3E%3C%2Fh3%3E%0A%0A%0A%0
 A%3Cul%20class%3D%22wp-block-list%22%3E%0A%3Cli%3E%3Cstrong%3EMitglieder%
 3C%2Fstrong%3E%3A%20Stimmberechtigt%20bei%20Entscheidungen%3C%2Fli%3E%0A%
 0A%0A%0A%3Cli%3E%3Cstrong%3EInteressierte%3C%2Fstrong%3E%3A%20Einfach%20r
 einschnuppern%20%E2%80%93%20wir%20freuen%20uns%20auf%20dich%21%3C%2Fli%3E
 %0A%3C%2Ful%3E%0A%0A%0A%0A%3Chr%20class%3D%22wp-block-separator%20has-tex
 t-color%20has-tanne-color%20has-alpha-channel-opacity%20has-tanne-backgro
 und-color%20has-background%22%20%2F%3E%0A%0A%0A%0A%3Ch3%20class%3D%22wp-b
 lock-heading%22%3E%E2%9C%A8%26nbsp%3B%3Cstrong%3ESei%20dabei%2C%20wenn%20
 wir...%3C%2Fstrong%3E%3C%2Fh3%3E%0A%0A%0A%0A%3Cp%3E...%20Br%C3%BCcken%20z
 wischen%20Vision%20und%20Tat%20schlagen.%3Cbr%3E...%20die%20Weichen%20f%C
 3%BCr%20ein%20gr%C3%BCneres%20Stahnsdorf%20stellen.%3Cbr%3E...%20zeigen%2
 C%20dass%20Gemeinschaft%20Wirkung%20entfaltet.%3C%2Fp%3E%0A%0A%0A%0A%3Cp%
 3E%3Cstrong%3E%26gt%3B%26gt%3B%20%3C%2Fstrong%3E%3Cem%3ESpontanentschloss
 ene%20sind%20willkommen%21%3C%2Fem%3E%3C%2Fp%3E%0A%0A%0A%0A%3Cp%3E%3C%2Fp
 %3E%0A":🌿 Gemeinsam Zukunft gestalten: Komm zur Mitgliederversammlung
 !Deine Stimme bewegt Stahnsdorf!\n\nLiebe Grüne\, liebe Freund*innen un
 serer Partei\,\n\nim Herzen unserer Demokratie schlägt der Austausch unt
 er Engagierten. Deshalb laden wir dich herzlich ein zu unserer nächsten
  Mitgliederversammlung:\n\n📅 Wann?\n\nMontag\, 14. Juli 2025 | 18:30
  Uhr\n\n📍 Wo?\n\nNaturkinder Kienwerder e.V. \, Am Kiebitzfenn 19\n\n
 💬 Warum dein Kommen zählt:\n\nAustausch auf Augenhöhe: Diskutiere m
 it uns über grüne Politik vor Ort – von Klimaschutz bis Sozialem.\n\n
 Gemeinsame Strategie: Entwickeln wir zusammen Lösungen für die Herausfo
 rderungen unserer Gemeinde.\n\nNeue Energie tanken: Treffe Gleichgesinnte
  und lass uns Erfolge feiern!\n\n"Veränderung entsteht\, wenn Menschen s
 ich verbinden."\n\n🌱 Was dich erwartet:\n\nImpulse zur Lage: Wo stehe
 n wir? Wo wollen wir hin?\n\nMitgestaltung: Bring deine Ideen ein – jed
 e Perspektive bereichert uns!\n\nAktionsplanung: Werde Teil unserer näch
 sten Projekte.\n\nNetzwerken: In entspannter Atmosphäre\, auf Augenhöhe
 .\n\n👥 Für alle offen:\n\nMitglieder: Stimmberechtigt bei Entscheidu
 ngen\n\nInteressierte: Einfach reinschnuppern – wir freuen uns auf dich
 !\n\n✨ Sei dabei\, wenn wir...\n\n... Brücken zwischen Vision und Tat
  schlagen.... die Weichen für ein grüneres Stahnsdorf stellen.... zeige
 n\, dass Gemeinschaft Wirkung entfaltet.\n\n>> Spontanentschlossene sind 
 willkommen!
CLASS:PUBLIC
DTSTART;TZID=Europe/Berlin:20250714T183000
DTEND;TZID=Europe/Berlin:20250714T203000
DTSTAMP:20260425T153925
END:VEVENT
END:VCALENDAR