BEGIN:VCALENDAR
VERSION:2.0
PRODID:gruene-stahnsdorf.de
METHOD:PUBLISH
BEGIN:VTIMEZONE
TZID:Europe/Berlin
X-LIC-LOCATION:Europe/Berlin
BEGIN:DAYLIGHT
TZOFFSETFROM:+0100
TZOFFSETTO:+0200
TZNAME:CEST
DTSTART:19700329T020000
RRULE:FREQ=YEARLY;INTERVAL=1;BYDAY=-1SU;BYMONTH=3
END:DAYLIGHT
BEGIN:STANDARD
TZOFFSETFROM:+0200
TZOFFSETTO:+0100
TZNAME:CET
DTSTART:19701025T030000
RRULE:FREQ=YEARLY;INTERVAL=1;BYDAY=-1SU;BYMONTH=10
END:STANDARD
END:VTIMEZONE
BEGIN:VEVENT
UID:d4d0b81e0b5401ffdfc4c6b3b030b377@gruene-stahnsdorf.de
URL;VALUE=URI:https://gruene-stahnsdorf.de/termine/sommerfest-vernetzungs
 treffen/
LOCATION:Marktplatz Waldschänke, Wannseestraße 21, Stahnsdorf
SUMMARY:Sommerfest & Vernetzungstreffen
DESCRIPTION;ALTREP="data:text/html,%0A%3Cp%3ELiebe%20Freundinnen%20und%20
 Freunde%2C%20Engagierte%20und%20Interessierte%20aus%20Teltow%2C%20Kleinma
 chnow%20und%20Stahnsdorf%2C%3C%2Fp%3E%0A%0A%0A%0A%3Cp%3Enach%20unserem%20
 erfolgreichen%20Netzwerktreffen%20im%20Mai%20freuen%20wir%20uns%20nun%20a
 uf%20eine%20sommerliche%20Nachfolgeveranstaltung%20%E2%80%93%20und%20ihr%
 20seid%20herzlich%20eingeladen%21%3C%2Fp%3E%0A%0A%0A%0A%3Cp%3E%F0%9F%97%9
 3%C2%A0%3Cstrong%3EWann%3F%3C%2Fstrong%3E%C2%A0Samstag%2C%2020.%20Septemb
 er%202025%2C%2016%3A00%E2%80%9318%3A00%20Uhr%20%28im%20Anschluss%20gem%C3
 %BCtlicher%20Ausklang%29%3Cbr%3E%F0%9F%93%8D%C2%A0%3Cstrong%3EWo%3F%3C%2F
 strong%3E%C2%A0Waldsch%C3%A4nke%20Stahnsdorf%2C%20Wannseestra%C3%9Fe%2021
 %20%28am%20Busbahnhof%20%E2%80%93%20gut%20erreichbar%21%29%3C%2Fp%3E%0A%0
 A%0A%0A%3Cp%3EGemeinsam%20m%C3%B6chten%20wir%20in%20den%20Teams%26nbsp%3B
 %3Cstrong%3E%C3%96ffentlichkeitsarbeit%3C%2Fstrong%3E%26nbsp%3Bund%26nbsp
 %3B%3Cstrong%3EEnergie%3C%2Fstrong%3E%26nbsp%3Bweiterarbeiten%2C%20Ideen%
 20sammeln%20und%20vielleicht%20sogar%20neue%20Interessengruppen%20gr%C3%B
 Cnden.%20Eure%20Vorschl%C3%A4ge%20sind%20ausdr%C3%BCcklich%20erw%C3%BCnsc
 ht%21%3C%2Fp%3E%0A%0A%0A%0A%3Cp%3EIm%20Anschluss%20an%20den%20Workshop-An
 teil%20geht%E2%80%99s%20bei%20hoffentlich%20sch%C3%B6nem%20Wetter%20im%20
 Biergarten%20in%20den%20geselligen%20Teil%20%C3%BCber.%20Damit%20die%20Lo
 cation%20f%C3%BCr%20alle%20bezahlbar%20bleibt%2C%20m%C3%BCssen%20wir%20le
 ider%20darum%20bitten%2C%26nbsp%3B%3Cstrong%3Ekeine%20eigenen%20Speisen%2
 0oder%20Getr%C3%A4nke%3C%2Fstrong%3E%26nbsp%3Bmitzubringen.%3C%2Fp%3E%0A%
 0A%0A%0A%3Cp%3EEgal%2C%20ob%20ihr%20schon%20lange%20dabei%20seid%20oder%2
 0zum%20ersten%20Mal%20vorbeikommt%2C%20wir%20freuen%20uns%20auf%20viele%2
 0bekannte%20und%20neue%20Gesichter%21%3C%2Fp%3E%0A%0A%0A%0A%3Cp%20class%3
 D%22has-text-align-center%22%3E%F0%9F%8C%BB%26nbsp%3B%3Cstrong%3EKommt%20
 vorbei%2C%20tauscht%20euch%20aus%20und%20gestaltet%20mit%20uns%20eine%20g
 r%C3%BCne%20Zukunft%20f%C3%BCr%20TKS%21%3C%2Fstrong%3E%3C%2Fp%3E%0A%0A%0A
 %0A%3Cp%3EBitte%20leitet%20diese%20Einladung%20gerne%20an%20Interessierte
 %20weiter.%3C%2Fp%3E%0A%0A%0A%0A%3Cp%3EWir%20freuen%20uns%20auf%20einen%2
 0inspirierenden%20Nachmittag%20mit%20euch%21%3C%2Fp%3E%0A%0A%0A%0A%3Cp%20
 class%3D%22has-text-align-center%20has-tanne-color%20has-sonne-background
 -color%20has-text-color%20has-background%20has-link-color%20wp-elements-b
 c96cd0364131e2fbffdc5ea0e4ec2f1%22%3E%3Cstrong%3EEuer%3Cbr%3EOrtsverband%
 20Stahnsdorf%20von%20B%C3%BCndnis%2090%2FDie%20Gr%C3%BCnen%3C%2Fstrong%3E
 %3C%2Fp%3E%0A%0A%0A%0A%3Cp%3E%C3%9Cbrigens%20ist%20das%20nicht%20das%20ei
 nzige%20Event%20am%20Martkplatz%20Waldsch%C3%A4nke.%20Schaut%20doch%20ger
 ne%20auf%20deren%20Webseite%20vorbei%20f%C3%BCr%20anstehende%20Veranstalt
 ungen%20und%20interessante%20Neuigkeiten%3A%20%3Ca%20href%3D%22https%3A%2
 F%2Fwww.marktplatz-waldschaenke.de%2F%22%3Ezur%20Webseite%20des%20MPWS%3C
 %2Fa%3E%3C%2Fp%3E%0A":Liebe Freundinnen und Freunde\, Engagierte und Inte
 ressierte aus Teltow\, Kleinmachnow und Stahnsdorf\,\n\nnach unserem erfo
 lgreichen Netzwerktreffen im Mai freuen wir uns nun auf eine sommerliche 
 Nachfolgeveranstaltung – und ihr seid herzlich eingeladen!\n\n🗓 Wan
 n? Samstag\, 20. September 2025\, 16:00–18:00 Uhr (im Anschluss gemüt
 licher Ausklang)📍 Wo? Waldschänke Stahnsdorf\, Wannseestraße 21 (a
 m Busbahnhof – gut erreichbar!)\n\nGemeinsam möchten wir in den Teams
  Öffentlichkeitsarbeit und Energie weiterarbeiten\, Ideen sammeln un
 d vielleicht sogar neue Interessengruppen gründen. Eure Vorschläge sind
  ausdrücklich erwünscht!\n\nIm Anschluss an den Workshop-Anteil geht’
 s bei hoffentlich schönem Wetter im Biergarten in den geselligen Teil ü
 ber. Damit die Location für alle bezahlbar bleibt\, müssen wir leider d
 arum bitten\, keine eigenen Speisen oder Getränke mitzubringen.\n\nEga
 l\, ob ihr schon lange dabei seid oder zum ersten Mal vorbeikommt\, wir f
 reuen uns auf viele bekannte und neue Gesichter!\n\n🌻 Kommt vorbei\, 
 tauscht euch aus und gestaltet mit uns eine grüne Zukunft für TKS!\n\nB
 itte leitet diese Einladung gerne an Interessierte weiter.\n\nWir freuen 
 uns auf einen inspirierenden Nachmittag mit euch!\n\nEuerOrtsverband Stah
 nsdorf von Bündnis 90/Die Grünen\n\nÜbrigens ist das nicht das einzige
  Event am Martkplatz Waldschänke. Schaut doch gerne auf deren Webseite v
 orbei für anstehende Veranstaltungen und interessante Neuigkeiten: zur W
 ebseite des MPWS
CLASS:PUBLIC
DTSTART;TZID=Europe/Berlin:20250920T160000
DTEND;TZID=Europe/Berlin:20250920T180000
DTSTAMP:20260425T170325
END:VEVENT
END:VCALENDAR